BEGIN:VCALENDAR
VERSION:2.0
PRODID:-//wp-events-plugin.com//7.2.3.1//EN
TZID:America/Detroit
X-WR-TIMEZONE:America/Detroit
BEGIN:VEVENT
UID:2755@peopleschurch.net
DTSTART;TZID=America/Detroit:20260525T180000
DTEND;TZID=America/Detroit:20260525T210000
DTSTAMP:20260416T151807Z
URL:https://peopleschurch.net/events/yarn-lovers-unite-2026-05-25/
SUMMARY:Yarn Lover's Unite!
DESCRIPTION:Fiber arts are fun and meditative and have been bringing groups
  together for centuries.  They can include all sorts of activities\, like
  crochet\, knitting\, weaving\, spinning\, embroidery\, cross-stitch\, etc
 .  Do you enjoy any of these activities?  Let's get together to celebrat
 e our own creativity while creating a supportive community.  Please join
  us the fourth Monday of the month in Room L1 from 6:00 p.m. to 9:00 p.m.\
 n\n&nbsp\;
CATEGORIES:Church Events &amp; Activities,Committees &amp; Groups
LOCATION:People's Church of Kalamazoo\, 1758 10th Street North\, Kalamazoo\
 , MI\, 49009\, United States
GEO:42.814001;-73.981458
X-APPLE-STRUCTURED-LOCATION;VALUE=URI;X-ADDRESS=1758 10th Street North\, Ka
 lamazoo\, MI\, 49009\, United States;X-APPLE-RADIUS=100;X-TITLE=People's C
 hurch of Kalamazoo:geo:42.814001,-73.981458
END:VEVENT
BEGIN:VTIMEZONE
TZID:America/Detroit
X-LIC-LOCATION:America/Detroit
BEGIN:DAYLIGHT
DTSTART:20260308T030000
TZOFFSETFROM:-0500
TZOFFSETTO:-0400
TZNAME:EDT
END:DAYLIGHT
END:VTIMEZONE
END:VCALENDAR