BEGIN:VCALENDAR
VERSION:2.0
PRODID:-//wp-events-plugin.com//7.2.3.1//EN
TZID:America/Detroit
X-WR-TIMEZONE:America/Detroit
BEGIN:VEVENT
UID:2553@peopleschurch.net
DTSTART;TZID=America/Detroit:20260514T183000
DTEND;TZID=America/Detroit:20260514T203000
DTSTAMP:20260416T151652Z
URL:https://peopleschurch.net/events/re-committee-meeting-2025-09-11-2025-
 10-09-2025-11-13-2025-12-11-2026-01-08-2026-02-12-2026-03-12-2026-04-09-20
 26-05-14/
SUMMARY:RE Committee Meeting
DESCRIPTION:
CATEGORIES:Committees &amp; Groups,Religious Education
LOCATION:People's Church of Kalamazoo\, 1758 10th Street North\, Kalamazoo\
 , MI\, 49009\, United States
GEO:42.814001;-73.981458
X-APPLE-STRUCTURED-LOCATION;VALUE=URI;X-ADDRESS=1758 10th Street North\, Ka
 lamazoo\, MI\, 49009\, United States;X-APPLE-RADIUS=100;X-TITLE=People's C
 hurch of Kalamazoo:geo:42.814001,-73.981458
END:VEVENT
BEGIN:VTIMEZONE
TZID:America/Detroit
X-LIC-LOCATION:America/Detroit
BEGIN:DAYLIGHT
DTSTART:20260308T030000
TZOFFSETFROM:-0500
TZOFFSETTO:-0400
TZNAME:EDT
END:DAYLIGHT
END:VTIMEZONE
END:VCALENDAR