BEGIN:VCALENDAR
VERSION:2.0
PRODID:-//wp-events-plugin.com//7.2.3.1//EN
TZID:America/Detroit
X-WR-TIMEZONE:America/Detroit
BEGIN:VEVENT
UID:2680@peopleschurch.net
DTSTART;TZID=America/Detroit:20260507T180000
DTEND;TZID=America/Detroit:20260507T194500
DTSTAMP:20260313T154746Z
URL:https://peopleschurch.net/events/evening-book-club-2025-07-10-2025-08-
 14-2025-09-11-2025-10-09-2025-11-13-2025-12-11-2026-01-08-2026-02-12-2026-
 03-12-2026-04-09-2026-05-14/
SUMMARY:Evening Book Club
DESCRIPTION:https://peopleschurch.net/news/evening-book-club-schedule-2025-
 2026/
CATEGORIES:Committees &amp; Groups
END:VEVENT
BEGIN:VTIMEZONE
TZID:America/Detroit
X-LIC-LOCATION:America/Detroit
BEGIN:DAYLIGHT
DTSTART:20260308T030000
TZOFFSETFROM:-0500
TZOFFSETTO:-0400
TZNAME:EDT
END:DAYLIGHT
END:VTIMEZONE
END:VCALENDAR