BEGIN:VCALENDAR
VERSION:2.0
PRODID:-//wp-events-plugin.com//7.2.3.1//EN
TZID:America/Detroit
X-WR-TIMEZONE:America/Detroit
BEGIN:VEVENT
UID:2526@peopleschurch.net
DTSTART;TZID=America/Detroit:20260505T183000
DTEND;TZID=America/Detroit:20260505T200000
DTSTAMP:20260416T151602Z
URL:https://peopleschurch.net/events/board-meeting-2024-01-02-2024-07-02-2
 024-08-06-2024-09-03-2024-10-01-2024-11-05-2024-12-03-2025-01-07-2025-02-0
 4-2025-03-04-2025-04-01-2025-05-06-2025-06-03-2025-07-01-2025-08-05-2025-0
 9-07-2026-05-05/
SUMMARY:Board Meeting
DESCRIPTION:
CATEGORIES:Committees &amp; Groups
LOCATION:People's Church of Kalamazoo\, 1758 10th Street North\, Kalamazoo\
 , MI\, 49009\, United States
GEO:42.814001;-73.981458
X-APPLE-STRUCTURED-LOCATION;VALUE=URI;X-ADDRESS=1758 10th Street North\, Ka
 lamazoo\, MI\, 49009\, United States;X-APPLE-RADIUS=100;X-TITLE=People's C
 hurch of Kalamazoo:geo:42.814001,-73.981458
END:VEVENT
BEGIN:VTIMEZONE
TZID:America/Detroit
X-LIC-LOCATION:America/Detroit
BEGIN:DAYLIGHT
DTSTART:20260308T030000
TZOFFSETFROM:-0500
TZOFFSETTO:-0400
TZNAME:EDT
END:DAYLIGHT
END:VTIMEZONE
END:VCALENDAR